BEGIN:VCALENDAR
VERSION:2.0
PRODID:-//Tukios.com/
BEGIN:VEVENT
UID:7266226a-f532-49c9-8d19-fdcfb63d3ad2@www.brownfh.net
DTSTAMP:20260424T010903Z
DTSTART:20260427T160000Z
DTEND:20260427T170000Z
SUMMARY:Celebration of Life
DESCRIPTION:
URL:https://www.brownfh.net/obituaries/james-birdyshaw
LOCATION:3493 Washington St 3493 Washington St  Chipley FL 32428
GEO:30.6343549;-85.5864114
END:VEVENT
END:VCALENDAR